Workbook

Sheet Correção Selic
D2: EXEMPLO PRÉ-MOLDADOS LTDA
D3: 11.222.333/0001-81
D4: Correção Selic do Crédito
B6: Periodo | C6: Crédito original | D6: SELIC Acumulada | E6: Correção (SELIC) | F6: Valor Corrigido
B7: 40695 | C7: 280.13 | D7: =IFERROR(VLOOKUP(IF(ISTEXT(B7),DATE(RIGHT(B7,4),12,1),B7),Selic!$A:$D,3,FALSE),"") -> 139.84 | E7: =IF(D7="","",C7*(D7/100)) -> 391.73379 | F7: =IF(D7="","",C7+E7) -> 671.86379
B8: 40725 | C8: 381.99 | D8: =IFERROR(VLOOKUP(IF(ISTEXT(B8),DATE(RIGHT(B8,4),12,1),B8),Selic!$A:$D,3,FALSE),"") -> 138.87 | E8: =IF(D8="","",C8*(D8/100)) -> 530.46951 | F8: =IF(D8="","",C8+E8) -> 912.45951
B9: 40756 | C9: 331.06 | D9: =IFERROR(VLOOKUP(IF(ISTEXT(B9),DATE(RIGHT(B9,4),12,1),B9),Selic!$A:$D,3,FALSE),"") -> 137.8 | E9: =IF(D9="","",C9*(D9/100)) -> 456.20068 | F9: =IF(D9="","",C9+E9) -> 787.26068
B10: 40969 | C10: 198.39 | D10: =IFERROR(VLOOKUP(IF(ISTEXT(B10),DATE(RIGHT(B10,4),12,1),B10),Selic!$A:$D,3,FALSE),"") -> 131.75 | E10: =IF(D10="","",C10*(D10/100)) -> 261.37883 | F10: =IF(D10="","",C10+E10) -> 459.76882
B11: 41000 | C11: 13.23 | D11: =IFERROR(VLOOKUP(IF(ISTEXT(B11),DATE(RIGHT(B11,4),12,1),B11),Selic!$A:$D,3,FALSE),"") -> 131.04 | E11: =IF(D11="","",C11*(D11/100)) -> 17.336592 | F11: =IF(D11="","",C11+E11) -> 30.566592
B12: 41306 | C12: 275.31 | D12: =IFERROR(VLOOKUP(IF(ISTEXT(B12),DATE(RIGHT(B12,4),12,1),B12),Selic!$A:$D,3,FALSE),"") -> 124.95 | E12: =IF(D12="","",C12*(D12/100)) -> 343.99984 | F12: =IF(D12="","",C12+E12) -> 619.30984
B13: 41426 | C13: 242.64 | D13: =IFERROR(VLOOKUP(IF(ISTEXT(B13),DATE(RIGHT(B13,4),12,1),B13),Selic!$A:$D,3,FALSE),"") -> 122.58 | E13: =IF(D13="","",C13*(D13/100)) -> 297.42811 | F13: =IF(D13="","",C13+E13) -> 540.06811
B14: 41456 | C14: 382.22 | D14: =IFERROR(VLOOKUP(IF(ISTEXT(B14),DATE(RIGHT(B14,4),12,1),B14),Selic!$A:$D,3,FALSE),"") -> 121.86 | E14: =IF(D14="","",C14*(D14/100)) -> 465.77329 | F14: =IF(D14="","",C14+E14) -> 847.99329
B15: 41518 | C15: 65.02 | D15: =IFERROR(VLOOKUP(IF(ISTEXT(B15),DATE(RIGHT(B15,4),12,1),B15),Selic!$A:$D,3,FALSE),"") -> 120.44 | E15: =IF(D15="","",C15*(D15/100)) -> 78.310088 | F15: =IF(D15="","",C15+E15) -> 143.33009
B16: 41548 | C16: 474.59 | D16: =IFERROR(VLOOKUP(IF(ISTEXT(B16),DATE(RIGHT(B16,4),12,1),B16),Selic!$A:$D,3,FALSE),"") -> 119.63 | E16: =IF(D16="","",C16*(D16/100)) -> 567.75202 | F16: =IF(D16="","",C16+E16) -> 1042.342
B17: 41579 | C17: 349 | D17: =IFERROR(VLOOKUP(IF(ISTEXT(B17),DATE(RIGHT(B17,4),12,1),B17),Selic!$A:$D,3,FALSE),"") -> 118.91 | E17: =IF(D17="","",C17*(D17/100)) -> 414.9959 | F17: =IF(D17="","",C17+E17) -> 763.9959
B18: 41609 | C18: 400.41 | D18: =IFERROR(VLOOKUP(IF(ISTEXT(B18),DATE(RIGHT(B18,4),12,1),B18),Selic!$A:$D,3,FALSE),"") -> 118.12 | E18: =IF(D18="","",C18*(D18/100)) -> 472.96429 | F18: =IF(D18="","",C18+E18) -> 873.37429
B19: 13/2013 | C19: 45.3 | D19: =IFERROR(VLOOKUP(IF(ISTEXT(B19),DATE(RIGHT(B19,4),12,1),B19),Selic!$A:$D,3,FALSE),"") -> 118.12 | E19: =IF(D19="","",C19*(D19/100)) -> 53.50836 | F19: =IF(D19="","",C19+E19) -> 98.80836
B20: 41640 | C20: 472.8 | D20: =IFERROR(VLOOKUP(IF(ISTEXT(B20),DATE(RIGHT(B20,4),12,1),B20),Selic!$A:$D,3,FALSE),"") -> 117.27 | E20: =IF(D20="","",C20*(D20/100)) -> 554.45256 | F20: =IF(D20="","",C20+E20) -> 1027.2526
B21: 41671 | C21: 646.9 | D21: =IFERROR(VLOOKUP(IF(ISTEXT(B21),DATE(RIGHT(B21,4),12,1),B21),Selic!$A:$D,3,FALSE),"") -> 116.48 | E21: =IF(D21="","",C21*(D21/100)) -> 753.50912 | F21: =IF(D21="","",C21+E21) -> 1400.4091
B22: 41699 | C22: 559.42 | D22: =IFERROR(VLOOKUP(IF(ISTEXT(B22),DATE(RIGHT(B22,4),12,1),B22),Selic!$A:$D,3,FALSE),"") -> 115.71 | E22: =IF(D22="","",C22*(D22/100)) -> 647.30488 | F22: =IF(D22="","",C22+E22) -> 1206.7249
B23: 41760 | C23: 510.66 | D23: =IFERROR(VLOOKUP(IF(ISTEXT(B23),DATE(RIGHT(B23,4),12,1),B23),Selic!$A:$D,3,FALSE),"") -> 114.02 | E23: =IF(D23="","",C23*(D23/100)) -> 582.25453 | F23: =IF(D23="","",C23+E23) -> 1092.9145
B24: 41883 | C24: 436.7 | D24: =IFERROR(VLOOKUP(IF(ISTEXT(B24),DATE(RIGHT(B24,4),12,1),B24),Selic!$A:$D,3,FALSE),"") -> 110.47 | E24: =IF(D24="","",C24*(D24/100)) -> 482.42249 | F24: =IF(D24="","",C24+E24) -> 919.12249
B25: 41913 | C25: 689.53 | D25: =IFERROR(VLOOKUP(IF(ISTEXT(B25),DATE(RIGHT(B25,4),12,1),B25),Selic!$A:$D,3,FALSE),"") -> 109.52 | E25: =IF(D25="","",C25*(D25/100)) -> 755.17326 | F25: =IF(D25="","",C25+E25) -> 1444.7033
B26: 41944 | C26: 689.53 | D26: =IFERROR(VLOOKUP(IF(ISTEXT(B26),DATE(RIGHT(B26,4),12,1),B26),Selic!$A:$D,3,FALSE),"") -> 108.68 | E26: =IF(D26="","",C26*(D26/100)) -> 749.3812 | F26: =IF(D26="","",C26+E26) -> 1438.9112
B27: 41974 | C27: 93.47 | D27: =IFERROR(VLOOKUP(IF(ISTEXT(B27),DATE(RIGHT(B27,4),12,1),B27),Selic!$A:$D,3,FALSE),"") -> 107.72 | E27: =IF(D27="","",C27*(D27/100)) -> 100.68588 | F27: =IF(D27="","",C27+E27) -> 194.15588
B28: 13/2014 | C28: 689.53 | D28: =IFERROR(VLOOKUP(IF(ISTEXT(B28),DATE(RIGHT(B28,4),12,1),B28),Selic!$A:$D,3,FALSE),"") -> 107.72 | E28: =IF(D28="","",C28*(D28/100)) -> 742.76172 | F28: =IF(D28="","",C28+E28) -> 1432.2917
B29: 42095 | C29: 1024.07 | D29: =IFERROR(VLOOKUP(IF(ISTEXT(B29),DATE(RIGHT(B29,4),12,1),B29),Selic!$A:$D,3,FALSE),"") -> 103.97 | E29: =IF(D29="","",C29*(D29/100)) -> 1064.7256 | F29: =IF(D29="","",C29+E29) -> 2088.7956
B30: 42370 | C30: 2897.48 | D30: =IFERROR(VLOOKUP(IF(ISTEXT(B30),DATE(RIGHT(B30,4),12,1),B30),Selic!$A:$D,3,FALSE),"") -> 94.12 | E30: =IF(D30="","",C30*(D30/100)) -> 2727.1082 | F30: =IF(D30="","",C30+E30) -> 5624.5882
B31: 42401 | C31: 1609.85 | D31: =IFERROR(VLOOKUP(IF(ISTEXT(B31),DATE(RIGHT(B31,4),12,1),B31),Selic!$A:$D,3,FALSE),"") -> 93.12 | E31: =IF(D31="","",C31*(D31/100)) -> 1499.0923 | F31: =IF(D31="","",C31+E31) -> 3108.9423
B32: 42430 | C32: 962.08 | D32: =IFERROR(VLOOKUP(IF(ISTEXT(B32),DATE(RIGHT(B32,4),12,1),B32),Selic!$A:$D,3,FALSE),"") -> 91.96 | E32: =IF(D32="","",C32*(D32/100)) -> 884.72877 | F32: =IF(D32="","",C32+E32) -> 1846.8088
B33: 42461 | C33: 688.36 | D33: =IFERROR(VLOOKUP(IF(ISTEXT(B33),DATE(RIGHT(B33,4),12,1),B33),Selic!$A:$D,3,FALSE),"") -> 90.9 | E33: =IF(D33="","",C33*(D33/100)) -> 625.71924 | F33: =IF(D33="","",C33+E33) -> 1314.0792
B34: 42491 | C34: 704.51 | D34: =IFERROR(VLOOKUP(IF(ISTEXT(B34),DATE(RIGHT(B34,4),12,1),B34),Selic!$A:$D,3,FALSE),"") -> 89.79 | E34: =IF(D34="","",C34*(D34/100)) -> 632.57953 | F34: =IF(D34="","",C34+E34) -> 1337.0895
B35: 42522 | C35: 1281.17 | D35: =IFERROR(VLOOKUP(IF(ISTEXT(B35),DATE(RIGHT(B35,4),12,1),B35),Selic!$A:$D,3,FALSE),"") -> 88.63 | E35: =IF(D35="","",C35*(D35/100)) -> 1135.501 | F35: =IF(D35="","",C35+E35) -> 2416.671
B36: 42552 | C36: 1126.51 | D36: =IFERROR(VLOOKUP(IF(ISTEXT(B36),DATE(RIGHT(B36,4),12,1),B36),Selic!$A:$D,3,FALSE),"") -> 87.52 | E36: =IF(D36="","",C36*(D36/100)) -> 985.92155 | F36: =IF(D36="","",C36+E36) -> 2112.4316
B37: 42583 | C37: 752.89 | D37: =IFERROR(VLOOKUP(IF(ISTEXT(B37),DATE(RIGHT(B37,4),12,1),B37),Selic!$A:$D,3,FALSE),"") -> 86.3 | E37: =IF(D37="","",C37*(D37/100)) -> 649.74407 | F37: =IF(D37="","",C37+E37) -> 1402.6341
B38: 42614 | C38: 1084.51 | D38: =IFERROR(VLOOKUP(IF(ISTEXT(B38),DATE(RIGHT(B38,4),12,1),B38),Selic!$A:$D,3,FALSE),"") -> 85.19 | E38: =IF(D38="","",C38*(D38/100)) -> 923.89407 | F38: =IF(D38="","",C38+E38) -> 2008.4041
B39: 42644 | C39: 1018.2 | D39: =IFERROR(VLOOKUP(IF(ISTEXT(B39),DATE(RIGHT(B39,4),12,1),B39),Selic!$A:$D,3,FALSE),"") -> 84.14 | E39: =IF(D39="","",C39*(D39/100)) -> 856.71348 | F39: =IF(D39="","",C39+E39) -> 1874.9135
B40: 42675 | C40: 2202.6 | D40: =IFERROR(VLOOKUP(IF(ISTEXT(B40),DATE(RIGHT(B40,4),12,1),B40),Selic!$A:$D,3,FALSE),"") -> 83.1 | E40: =IF(D40="","",C40*(D40/100)) -> 1830.3606 | F40: =IF(D40="","",C40+E40) -> 4032.9606
B41: 13/2016 | C41: 752.89 | D41: =IFERROR(VLOOKUP(IF(ISTEXT(B41),DATE(RIGHT(B41,4),12,1),B41),Selic!$A:$D,3,FALSE),"") -> 81.98 | E41: =IF(D41="","",C41*(D41/100)) -> 617.21922 | F41: =IF(D41="","",C41+E41) -> 1370.1092
B42: 42736 | C42: 750.52 | D42: =IFERROR(VLOOKUP(IF(ISTEXT(B42),DATE(RIGHT(B42,4),12,1),B42),Selic!$A:$D,3,FALSE),"") -> 80.89 | E42: =IF(D42="","",C42*(D42/100)) -> 607.09563 | F42: =IF(D42="","",C42+E42) -> 1357.6156
B43: 42767 | C43: 1023.37 | D43: =IFERROR(VLOOKUP(IF(ISTEXT(B43),DATE(RIGHT(B43,4),12,1),B43),Selic!$A:$D,3,FALSE),"") -> 80.02 | E43: =IF(D43="","",C43*(D43/100)) -> 818.90067 | F43: =IF(D43="","",C43+E43) -> 1842.2707
B44: 42795 | C44: 3382.5 | D44: =IFERROR(VLOOKUP(IF(ISTEXT(B44),DATE(RIGHT(B44,4),12,1),B44),Selic!$A:$D,3,FALSE),"") -> 78.97 | E44: =IF(D44="","",C44*(D44/100)) -> 2671.1602 | F44: =IF(D44="","",C44+E44) -> 6053.6602
B45: 42826 | C45: 1166.64 | D45: =IFERROR(VLOOKUP(IF(ISTEXT(B45),DATE(RIGHT(B45,4),12,1),B45),Selic!$A:$D,3,FALSE),"") -> 78.18 | E45: =IF(D45="","",C45*(D45/100)) -> 912.07915 | F45: =IF(D45="","",C45+E45) -> 2078.7192
B46: 42856 | C46: 779.19 | D46: =IFERROR(VLOOKUP(IF(ISTEXT(B46),DATE(RIGHT(B46,4),12,1),B46),Selic!$A:$D,3,FALSE),"") -> 77.25 | E46: =IF(D46="","",C46*(D46/100)) -> 601.92427 | F46: =IF(D46="","",C46+E46) -> 1381.1143
B47: 42887 | C47: 779.19 | D47: =IFERROR(VLOOKUP(IF(ISTEXT(B47),DATE(RIGHT(B47,4),12,1),B47),Selic!$A:$D,3,FALSE),"") -> 76.44 | E47: =IF(D47="","",C47*(D47/100)) -> 595.61284 | F47: =IF(D47="","",C47+E47) -> 1374.8028
B48: 42917 | C48: 779.19 | D48: =IFERROR(VLOOKUP(IF(ISTEXT(B48),DATE(RIGHT(B48,4),12,1),B48),Selic!$A:$D,3,FALSE),"") -> 75.64 | E48: =IF(D48="","",C48*(D48/100)) -> 589.37932 | F48: =IF(D48="","",C48+E48) -> 1368.5693
B49: 42948 | C49: 779.19 | D49: =IFERROR(VLOOKUP(IF(ISTEXT(B49),DATE(RIGHT(B49,4),12,1),B49),Selic!$A:$D,3,FALSE),"") -> 74.84 | E49: =IF(D49="","",C49*(D49/100)) -> 583.1458 | F49: =IF(D49="","",C49+E49) -> 1362.3358
B50: 42979 | C50: 779.19 | D50: =IFERROR(VLOOKUP(IF(ISTEXT(B50),DATE(RIGHT(B50,4),12,1),B50),Selic!$A:$D,3,FALSE),"") -> 74.2 | E50: =IF(D50="","",C50*(D50/100)) -> 578.15898 | F50: =IF(D50="","",C50+E50) -> 1357.349
B51: 43009 | C51: 779.19 | D51: =IFERROR(VLOOKUP(IF(ISTEXT(B51),DATE(RIGHT(B51,4),12,1),B51),Selic!$A:$D,3,FALSE),"") -> 73.56 | E51: =IF(D51="","",C51*(D51/100)) -> 573.17216 | F51: =IF(D51="","",C51+E51) -> 1352.3622
B52: 43101 | C52: 746.63 | D52: =IFERROR(VLOOKUP(IF(ISTEXT(B52),DATE(RIGHT(B52,4),12,1),B52),Selic!$A:$D,3,FALSE),"") -> 71.87 | E52: =IF(D52="","",C52*(D52/100)) -> 536.60298 | F52: =IF(D52="","",C52+E52) -> 1283.233
B53: 43132 | C53: 746.63 | D53: =IFERROR(VLOOKUP(IF(ISTEXT(B53),DATE(RIGHT(B53,4),12,1),B53),Selic!$A:$D,3,FALSE),"") -> 71.4 | E53: =IF(D53="","",C53*(D53/100)) -> 533.09382 | F53: =IF(D53="","",C53+E53) -> 1279.7238
... B81: 44652 | C81: 16.21 | D81: =IFERROR(VLOOKUP(IF(ISTEXT(B81),DATE(RIGHT(B81,4),12,1),B81),Selic!$A:$D,3,FALSE),"") -> 50.1 | E81: =IF(D81="","",C81*(D81/100)) -> 8.12121 | F81: =IF(D81="","",C81+E81) -> 24.33121
C82: =SUM(C7:C81) -> 56841.07 | F82: =SUM(F7:F81) -> 103767.56

Sheet Recolhimentos (GPS e Darf)
C2: EXEMPLO PRÉ-MOLDADOS LTDA
C3: 11.222.333/0001-81
C4: Guias de Arrecadação INSS (GPS e DARF)
B6: GPS (2100) | H6: DARF (1410)
B7: Número do Documento | C7: Competência | D7: Data de Arrecadação | E7: Valor Total | H7: Número do Documento | I7: Competência | J7: Data de Arrecadação | K7: Valor Total
B8: 3525824911656 | C8: 40179 | D8: 40228 | E8: 3477.36 | H8: 2.4687206e+15 | I8: 43556 | J8: 43605 | K8: 24282.59
B9: 3352851876742 | C9: 40210 | D9: 40256 | E9: 3327.63 | H9: 5.7626895e+15 | I9: 43586 | J9: 43635 | K9: 24464.21
B10: 84548837952409 | C10: 40238 | D10: 40288 | E10: 3438.3 | H10: 7.1327226e+15 | I10: 43617 | J10: 43665 | K10: 23134.78
B11: 81539994137066 | C11: 40269 | D11: 40318 | E11: 3497.59 | H11: 2.6061336e+15 | I11: 43647 | J11: 43697 | K11: 24034.89
B12: 55733624713071 | C12: 40299 | D12: 40347 | E12: 3638.52 | H12: 5.5131888e+15 | I12: 43678 | J12: 43728 | K12: 25928.83
B13: 53985529682434 | C13: 40330 | D13: 40379 | E13: 3857.22 | H13: 5.0971511e+15 | I13: 43709 | J13: 43756 | K13: 25820.63
B14: 599675799399 | C14: 40330 | D14: 40393 | E14: 92.22 | H14: 2.8469041e+15 | I14: 43739 | J14: 43789 | K14: 26973.51
B15: 84355516159314 | C15: 40360 | D15: 40410 | E15: 4541.05 | H15: 1.2678776e+15 | I15: 43770 | J15: 43819 | K15: 24150.47
B16: 53839048640402 | C16: 40391 | D16: 40441 | E16: 4977.05 | H16: 5.7086981e+15 | I16: 43800 | J16: 43850 | K16: 28797.62
B17: 41909385135176 | C17: 40422 | D17: 40471 | E17: 4667.87 | H17: 4.5866504e+15 | I17: 13/2019 | J17: 43819 | K17: 18775.83
B18: 15662332794518 | C18: 40452 | D18: 40501 | E18: 4720.06 | H18: 5.3683429e+15 | I18: 43831 | J18: 43881 | K18: 23361.82
B19: 37551287646153 | C19: 40483 | D19: 40532 | E19: 4089.38 | H19: 3.5519561e+15 | I19: 43862 | J19: 43910 | K19: 22967.82
B20: 46923767817654 | C20: 40513 | D20: 40563 | E20: 4282.84 | H20: 6.2003294e+15 | I20: 43891 | J20: 44063 | K20: 12202.45
B21: 57730438483474 | C21: 13/2010 | D21: 40532 | E21: 3222.52 | H21: 4.9189438e+15 | I21: 43891 | J21: 43941 | K21: 8673.67
B22: 12471661747988 | C22: 40544 | D22: 40592 | E22: 5661.47 | H22: 6.8371182e+15 | I22: 43922 | J22: 44124 | K22: 10052.52
B23: 93377906842737 | C23: 40575 | D23: 40620 | E23: 6395.03 | H23: 5.4526863e+15 | I23: 43922 | J23: 43971 | K23: 6378.75
B24: 15582597206596 | C24: 40603 | D24: 40653 | E24: 7268.73 | H24: 8.3884125e+15 | I24: 43952 | J24: 44001 | K24: 15453.19
B25: 25184878364016 | C25: 40603 | D25: 40653 | E25: 28.81 | H25: 4.6420709e+15 | I25: 43983 | J25: 44032 | K25: 16343.04
B26: 24626615939748 | C26: 40634 | D26: 40683 | E26: 28.81 | H26: 4.1539946e+15 | I26: 44013 | J26: 44063 | K26: 17498.39
B27: 34859809975785 | C27: 40634 | D27: 40683 | E27: 8414.33 | H27: 3.9711925e+15 | I27: 44044 | J27: 44092 | K27: 20498.71
B28: 18108406646029 | C28: 40664 | D28: 40714 | E28: 8155.23 | H28: 1.5124704e+15 | I28: 44075 | J28: 44124 | K28: 33227.66
B29: 32401344094 | C29: 40664 | D29: 40700 | E29: 144.06 | H29: 5.6203194e+15 | I29: 44105 | J29: 44155 | K29: 21310.97
B30: 17410650667554 | C30: 40695 | D30: 40744 | E30: 7939.21 | H30: 4.1996346e+15 | I30: 44136 | J30: 44183 | K30: 24340.34
B31: 93094204793135 | C31: 40725 | D31: 40774 | E31: 7777.29 | H31: 3.0200471e+15 | I31: 44166 | J31: 44216 | K31: 26327.01
B32: 55353717654065 | C32: 40756 | D32: 40806 | E32: 8023 | H32: 8.7472301e+15 | I32: 13/2020 | J32: 44183 | K32: 18151.35
B33: 72916614846500 | C33: 40787 | D33: 40836 | E33: 8484.24 | H33: 5.4513501e+15 | I33: 44197 | J33: 44246 | K33: 27394.59
B34: 59553525899653 | C34: 40817 | D34: 40865 | E34: 7799.17 | H34: 8.1700159e+15 | I34: 44228 | J34: 44274 | K34: 26819.91
B35: 77440631691671 | C35: 40848 | D35: 40897 | E35: 8335.3 | H35: 8.523997e+15 | I35: 44256 | J35: 44306 | K35: 29405.13
B36: 85396965534442 | C36: 40878 | D36: 40928 | E36: 8507.15 | H36: 3.7083058e+15 | I36: 44287 | J36: 44336 | K36: 29909
B37: 65266889890306 | C37: 13/2011 | D37: 40897 | E37: 6610.81 | H37: 9.7566853e+15 | I37: 44317 | J37: 44365 | K37: 29643.48
B38: 7465483063521 | C38: 40909 | D38: 40956 | E38: 9308.39 | H38: 6.1271453e+15 | I38: 44348 | J38: 44397 | K38: 29992.55
B39: 97502579777578 | C39: 40940 | D39: 40988 | E39: 8691.2 | H39: 5.9975072e+15 | I39: 44378 | J39: 44428 | K39: 32138.33
B40: 26761083794708 | C40: 40969 | D40: 41019 | E40: 8934.74 | H40: 5.6965651e+15 | I40: 44409 | J40: 44459 | K40: 34307.26
B41: 28881857176750 | C41: 41000 | D41: 41047 | E41: 10518.2 | H41: 1.0001932e+15 | I41: 44440 | J41: 44489 | K41: 29726.07
B42: 59446889822191 | C42: 41030 | D42: 41080 | E42: 12015.52 | H42: 4.1178908e+15 | I42: 44470 | J42: 44519 | K42: 31935.33
B43: 43800741641844 | C43: 41061 | D43: 41110 | E43: 11110.13 | H43: 2.5430139e+15 | I43: 44501 | J43: 44547 | K43: 38418.36
B44: 99331766601973 | C44: 41091 | D44: 41141 | E44: 12633.56 | H44: 4.0601849e+15 | I44: 44531 | J44: 44581 | K44: 41015.85
B45: 73249438657625 | C45: 41122 | D45: 41172 | E45: 14158.26 | H45: 1.3022578e+15 | I45: 13/2021 | J45: 44547 | K45: 27408.21
B46: 36992495176337 | C46: 41153 | D46: 41201 | E46: 12799.56 | H46: 4.6795715e+15 | I46: 44562 | J46: 44610 | K46: 40296.79
B47: 9818409823196 | C47: 41183 | D47: 41234 | E47: 14747.86 | H47: 4.9887274e+15 | I47: 44593 | J47: 44638 | K47: 34059.65
B48: 34695799168743 | C48: 41214 | D48: 41263 | E48: 18992.6 | H48: 4.2703803e+15 | I48: 44621 | J48: 44671 | K48: 33827.42
B49: 16466565226435 | C49: 41244 | D49: 41292 | E49: 19720.81 | H49: 5.3914185e+15 | I49: 44652 | J49: 44701 | K49: 36661.31
B50: 70495596743188 | C50: 13/2012 | D50: 41263 | E50: 11067.9
B51: 20827587290251 | C51: 41275 | D51: 41325 | E51: 20917.45
B52: 89842081092704 | C52: 41306 | D52: 41353 | E52: 20465.61
B53: 23192473479940 | C53: 41334 | D53: 41383 | E53: 20304.23
B54: 64033036111689 | C54: 41365 | D54: 41414 | E54: 20616.07
B55: 71407945637044 | C55: 41395 | D55: 41445 | E55: 22183.76
B56: 25728881694816 | C56: 41426 | D56: 41474 | E56: 21506.04
B57: 82533688173993 | C57: 41456 | D57: 41506 | E57: 22743.94
B58: 26980144546568 | C58: 41487 | D58: 41537 | E58: 21682.72
B59: 83732961095390 | C59: 41518 | D59: 41565 | E59: 20839.12
B60: 66908993695554 | C60: 41548 | D60: 41598 | E60: 21435.53
B61: 77527565717119 | C61: 41579 | D61: 41628 | E61: 22436.43
B62: 18566354528991 | C62: 41609 | D62: 41659 | E62: 20988.9
B63: 51286704375932 | C63: 13/2013 | D63: 41628 | E63: 18239.11
B64: 80518028411241 | C64: 41640 | D64: 41690 | E64: 22589.38
B65: 91238649043406 | C65: 41671 | D65: 41718 | E65: 21370.41
B66: 19614551942730 | C66: 41699 | D66: 41746 | E66: 22914.28
B67: 49957980868218 | C67: 41730 | D67: 41779 | E67: 25946.24
B68: 8474522315133 | C68: 41760 | D68: 41893 | E68: 74.7
B69: 18274425755557 | C69: 41760 | D69: 41810 | E69: 28260.73
B70: 26934832664465 | C70: 41791 | D70: 41838 | E70: 26358.29
B71: 4168709077828 | C71: 41821 | D71: 41893 | E71: 28.06
B72: 26290048631523 | C72: 41821 | D72: 41871 | E72: 25708.81
B73: 53364586628729 | C73: 41852 | D73: 41901 | E73: 29010.54
B74: 59110192744602 | C74: 41883 | D74: 41932 | E74: 28657.05
B75: 56976477308019 | C75: 41913 | D75: 41963 | E75: 28781.22
... B77: 22000102342144 | C77: 41974 | D77: 42024 | E77: 32702.48
B78: 71560799566073 | C78: 13/2014 | D78: 41992 | E78: 24104.45
B79: 83100812216067 | C79: 42005 | D79: 42055 | E79: 35594.98
B80: 12566791226745 | C80: 42036 | D80: 42083 | E80: 32377.84
B81: 59050442547302 | C81: 42064 | D81: 42114 | E81: 30367.58
B82: 90292802421071 | C82: 42095 | D82: 42144 | E82: 29574.25
B83: 71099025992061 | C83: 42125 | D83: 42174 | E83: 35022.68
B84: 62356437054438 | C84: 42156 | D84: 42205 | E84: 33732.84
B85: 78548636551733 | C85: 42186 | D85: 42236 | E85: 34362.39
B86: 82298695084960 | C86: 42217 | D86: 42265 | E86: 32720.39
B87: 21728456357263 | C87: 42248 | D87: 42297 | E87: 31400.98
B88: 3861850985866 | C88: 42278 | D88: 42328 | E88: 26675.13
B89: 944880664493 | C89: 42309 | D89: 42354 | E89: 34844.6
B90: 8708842843766 | C90: 42339 | D90: 42389 | E90: 32643.03
B91: 720569528329 | C91: 13/2015 | D91: 42354 | E91: 27694.03
B92: 8530024548122 | C92: 42370 | D92: 42419 | E92: 40442.52
B93: 93311321324661 | C93: 42401 | D93: 42447 | E93: 29807.59
B94: 11831963862906 | C94: 42430 | D94: 42480 | E94: 25897.4
B95: 86891789323734 | C95: 42461 | D95: 42510 | E95: 26169.07
B96: 5687345140400 | C96: 42491 | D96: 42541 | E96: 27604.81
B97: 4399308741274 | C97: 42522 | D97: 42571 | E97: 24753.31
B98: 4013735401735 | C98: 42552 | D98: 42601 | E98: 24299.73
B99: 2399848072549 | C99: 42583 | D99: 42633 | E99: 29158.34
B100: 2305192662708 | C100: 42614 | D100: 42663 | E100: 27899.64
B101: 1010007438639 | C101: 42644 | D101: 42692 | E101: 30068.77
B102: 13447526093200 | C102: 42675 | D102: 42724 | E102: 30732.3
B103: 7417128427880 | C103: 42705 | D103: 42755 | E103: 26734.81
...

Sheet Crédito por Verba
C2: EXEMPLO PRÉ-MOLDADOS LTDA
C3: 11.222.333/0001-81
C4: Valor do Crédito por Verba
B7: Periodo | C7: Auxilio Doença | D7: Aviso Prévio Indenizado | E7: Salário Maternidade | F7: Valor Total
B8: 40695 | C8: 280.13 | D8: 0 | E8: 0 | F8: =SUM(C8:E8) -> 280.13
B9: 40725 | C9: 381.99 | D9: 0 | E9: 0 | F9: =SUM(C9:E9) -> 381.99
B10: 40756 | C10: 331.06 | D10: 0 | E10: 0 | F10: =SUM(C10:E10) -> 331.06
B11: 40969 | C11: 198.39 | D11: 0 | E11: 0 | F11: =SUM(C11:E11) -> 198.39
B12: 41000 | C12: 13.23 | D12: 0 | E12: 0 | F12: =SUM(C12:E12) -> 13.23
B13: 41306 | C13: 0 | D13: 275.31 | E13: 0 | F13: =SUM(C13:E13) -> 275.31
B14: 41426 | C14: 0 | D14: 242.64 | E14: 0 | F14: =SUM(C14:E14) -> 242.64
B15: 41456 | C15: 0 | D15: 382.22 | E15: 0 | F15: =SUM(C15:E15) -> 382.22
B16: 41518 | C16: 65.02 | D16: 0 | E16: 0 | F16: =SUM(C16:E16) -> 65.02
B17: 41548 | C17: 474.59 | D17: 0 | E17: 0 | F17: =SUM(C17:E17) -> 474.59
B18: 41579 | C18: 175.49 | D18: 0 | E18: 173.51 | F18: =SUM(C18:E18) -> 349
B19: 41609 | C19: 0 | D19: 0 | E19: 400.41 | F19: =SUM(C19:E19) -> 400.41
B20: 13/2013 | C20: 0 | D20: 0 | E20: 45.3 | F20: =SUM(C20:E20) -> 45.3
B21: 41640 | C21: 0 | D21: 0 | E21: 472.8 | F21: =SUM(C21:E21) -> 472.8
B22: 41671 | C22: 174.1 | D22: 0 | E22: 472.8 | F22: =SUM(C22:E22) -> 646.9
B23: 41699 | C23: 307.26 | D23: 0 | E23: 252.16 | F23: =SUM(C23:E23) -> 559.42
B24: 41760 | C24: 0 | D24: 510.66 | E24: 0 | F24: =SUM(C24:E24) -> 510.66
B25: 41883 | C25: 436.7 | D25: 0 | E25: 0 | F25: =SUM(C25:E25) -> 436.7
B26: 41913 | C26: 689.53 | D26: 0 | E26: 0 | F26: =SUM(C26:E26) -> 689.53
B27: 41944 | C27: 689.53 | D27: 0 | E27: 0 | F27: =SUM(C27:E27) -> 689.53
B28: 41974 | C28: 0 | D28: 0 | E28: 93.47 | F28: =SUM(C28:E28) -> 93.47
B29: 13/2014 | C29: 689.53 | D29: 0 | E29: 0 | F29: =SUM(C29:E29) -> 689.53
B30: 42095 | C30: 669.39 | D30: 0 | E30: 354.68 | F30: =SUM(C30:E30) -> 1024.07
B31: 42370 | C31: 1392.2 | D31: 1505.28 | E31: 0 | F31: =SUM(C31:E31) -> 2897.48
B32: 42401 | C32: 688.36 | D32: 921.49 | E32: 0 | F32: =SUM(C32:E32) -> 1609.85
B33: 42430 | C33: 688.36 | D33: 273.72 | E33: 0 | F33: =SUM(C33:E33) -> 962.08
B34: 42461 | C34: 688.36 | D34: 0 | E34: 0 | F34: =SUM(C34:E34) -> 688.36
B35: 42491 | C35: 704.51 | D35: 0 | E35: 0 | F35: =SUM(C35:E35) -> 704.51
B36: 42522 | C36: 1281.17 | D36: 0 | E36: 0 | F36: =SUM(C36:E36) -> 1281.17
B37: 42552 | C37: 1126.51 | D37: 0 | E37: 0 | F37: =SUM(C37:E37) -> 1126.51
B38: 42583 | C38: 752.89 | D38: 0 | E38: 0 | F38: =SUM(C38:E38) -> 752.89
B39: 42614 | C39: 1084.51 | D39: 0 | E39: 0 | F39: =SUM(C39:E39) -> 1084.51
B40: 42644 | C40: 1018.2 | D40: 0 | E40: 0 | F40: =SUM(C40:E40) -> 1018.2
B41: 42675 | C41: 752.89 | D41: 1449.71 | E41: 0 | F41: =SUM(C41:E41) -> 2202.6
B42: 13/2016 | C42: 752.89 | D42: 0 | E42: 0 | F42: =SUM(C42:E42) -> 752.89
B43: 42736 | C43: 750.52 | D43: 0 | E43: 0 | F43: =SUM(C43:E43) -> 750.52
B44: 42767 | C44: 750.52 | D44: 272.85 | E44: 0 | F44: =SUM(C44:E44) -> 1023.37
B45: 42795 | C45: 750.52 | D45: 2631.98 | E45: 0 | F45: =SUM(C45:E45) -> 3382.5
B46: 42826 | C46: 750.52 | D46: 416.12 | E46: 0 | F46: =SUM(C46:E46) -> 1166.64
B47: 42856 | C47: 779.19 | D47: 0 | E47: 0 | F47: =SUM(C47:E47) -> 779.19
B48: 42887 | C48: 779.19 | D48: 0 | E48: 0 | F48: =SUM(C48:E48) -> 779.19
B49: 42917 | C49: 779.19 | D49: 0 | E49: 0 | F49: =SUM(C49:E49) -> 779.19
B50: 42948 | C50: 779.19 | D50: 0 | E50: 0 | F50: =SUM(C50:E50) -> 779.19
B51: 42979 | C51: 779.19 | D51: 0 | E51: 0 | F51: =SUM(C51:E51) -> 779.19
B52: 43009 | C52: 779.19 | D52: 0 | E52: 0 | F52: =SUM(C52:E52) -> 779.19
B53: 43101 | C53: 746.63 | D53: 0 | E53: 0 | F53: =SUM(C53:E53) -> 746.63
B54: 43132 | C54: 746.63 | D54: 0 | E54: 0 | F54: =SUM(C54:E54) -> 746.63
... B82: 44652 | C82: 16.21 | D82: 0 | E82: 0 | F82: =SUM(C82:E82) -> 16.21
B83: Total | C83: =SUM(C8:C82) -> 43323.18 | D83: =SUM(D8:D82) -> 11252.76 | E83: =SUM(E8:E82) -> 2265.13 | F83: =SUM(F8:F82) -> 56841.07

Sheet Selic
A1: Período | B1: Taxa SELIC Mês - RFB | C1: Vlr SELIC Acumulada - RFB | D1: Vlr SELIC Atualização - Créditos
A2: 46143 | B2: 1 | C2: 5 | D2: 5
A3: 46113 | B3: 1.09 | C3: 1 | D3: 5
A4: 46082 | B4: 1.21 | C4: 2.09 | D4: 1
A5: 46054 | B5: 1 | C5: 3.3 | D5: 2.09
A6: 46023 | B6: 1.16 | C6: 4.3 | D6: 3.3
A7: 45992 | B7: 1.22 | C7: 5.46 | D7: 4.3
A8: 45962 | B8: 1.05 | C8: 6.68 | D8: 5.46
A9: 45931 | B9: 1.28 | C9: 7.73 | D9: 6.68
A10: 45901 | B10: 1.22 | C10: 9.01 | D10: 7.73
A11: 45870 | B11: 1.16 | C11: 10.23 | D11: 9.01
A12: 45839 | B12: 1.28 | C12: 11.39 | D12: 10.23
A13: 45809 | B13: 1.1 | C13: 12.67 | D13: 11.39
... A342: 35796 | B342: 2.67 | C342: 351.04 | D342: 348.91
